Package: EWCE Version: 1.16.0 Command: rm -rf EWCE.buildbin-libdir && mkdir EWCE.buildbin-libdir && /Users/biocbuild/BBS/utils/build-universal.sh EWCE_1.16.0.tar.gz /Library/Frameworks/R.framework/Resources/bin/R EWCE.buildbin-libdir StartedAt: 2025-10-14 13:24:47 -0400 (Tue, 14 Oct 2025) EndedAt: 2025-10-14 13:26:49 -0400 (Tue, 14 Oct 2025) EllapsedTime: 122.4 seconds RetCode: 0 Status: OK PackageFile: EWCE_1.16.0.tgz PackageFileSize: 2.867 MiB