Package: ENmix Version: 1.44.0 Command: /Library/Frameworks/R.framework/Resources/bin/R CMD check --install=check:ENmix.install-out.txt --library=/Library/Frameworks/R.framework/Resources/library --no-vignettes --timings ENmix_1.44.0.tar.gz StartedAt: 2025-04-21 19:15:36 -0400 (Mon, 21 Apr 2025) EndedAt: 2025-04-21 19:17:48 -0400 (Mon, 21 Apr 2025) EllapsedTime: 131.5 seconds RetCode: 0 Status: OK CheckDir: ENmix.Rcheck Warnings: 0