Package: ENmix Version: 1.44.0 Command: /Library/Frameworks/R.framework/Resources/bin/R CMD build --keep-empty-dirs --no-resave-data ENmix StartedAt: 2025-04-21 16:15:52 -0400 (Mon, 21 Apr 2025) EndedAt: 2025-04-21 16:16:19 -0400 (Mon, 21 Apr 2025) EllapsedTime: 27.3 seconds RetCode: 0 Status: OK PackageFile: ENmix_1.44.0.tar.gz PackageFileSize: 20.02 MiB