Package: ENmix Version: 1.44.0 Command: rm -rf ENmix.buildbin-libdir && mkdir ENmix.buildbin-libdir && /Users/biocbuild/BBS/utils/build-universal.sh ENmix_1.44.0.tar.gz /Library/Frameworks/R.framework/Resources/bin/R ENmix.buildbin-libdir StartedAt: 2025-04-21 22:34:07 -0400 (Mon, 21 Apr 2025) EndedAt: 2025-04-21 22:34:31 -0400 (Mon, 21 Apr 2025) EllapsedTime: 23.5 seconds RetCode: 0 Status: OK PackageFile: ENmix_1.44.0.tgz PackageFileSize: 19.7 MiB