Package: ENmix Version: 1.44.3 Command: /Library/Frameworks/R.framework/Resources/bin/R CMD check --install=check:ENmix.install-out.txt --library=/Library/Frameworks/R.framework/Resources/library --no-vignettes --timings ENmix_1.44.3.tar.gz StartedAt: 2025-10-14 20:37:51 -0400 (Tue, 14 Oct 2025) EndedAt: 2025-10-14 20:44:27 -0400 (Tue, 14 Oct 2025) EllapsedTime: 396.3 seconds RetCode: 0 Status: OK CheckDir: ENmix.Rcheck Warnings: 0