Package: ENmix Version: 1.44.3 Command: rm -rf ENmix.buildbin-libdir && mkdir ENmix.buildbin-libdir && /Users/biocbuild/BBS/utils/build-universal.sh ENmix_1.44.3.tar.gz /Library/Frameworks/R.framework/Resources/bin/R ENmix.buildbin-libdir StartedAt: 2025-10-15 18:21:59 -0400 (Wed, 15 Oct 2025) EndedAt: 2025-10-15 18:23:07 -0400 (Wed, 15 Oct 2025) EllapsedTime: 68.6 seconds RetCode: 0 Status: OK PackageFile: ENmix_1.44.3.tgz PackageFileSize: 19.7 MiB