Package: EMDomics Version: 2.39.0 Command: rm -rf EMDomics.buildbin-libdir && mkdir EMDomics.buildbin-libdir && F:\biocbuild\bbs-3.22-bioc\R\bin\R.exe CMD INSTALL --build --library=EMDomics.buildbin-libdir EMDomics_2.39.0.tar.gz StartedAt: 2025-08-15 10:12:49 -0400 (Fri, 15 Aug 2025) EndedAt: 2025-08-15 10:13:18 -0400 (Fri, 15 Aug 2025) EllapsedTime: 29.0 seconds RetCode: 0 Status: OK PackageFile: EMDomics_2.39.0.zip PackageFileSize: 181.9 KiB