Package: EMDomics Version: 2.40.0 Command: /home/biocbuild/bbs-3.22-bioc/R/bin/R CMD INSTALL EMDomics StartedAt: 2025-11-06 15:11:15 -0500 (Thu, 06 Nov 2025) EndedAt: 2025-11-06 15:11:20 -0500 (Thu, 06 Nov 2025) EllapsedTime: 5.1 seconds RetCode: 0 Status: OK