Package: EMDomics Version: 2.40.0 Command: /home/biocbuild/bbs-3.22-bioc/R/bin/R CMD check --install=check:EMDomics.install-out.txt --library=/home/biocbuild/bbs-3.22-bioc/R/site-library --timings EMDomics_2.40.0.tar.gz StartedAt: 2025-11-09 23:28:34 -0500 (Sun, 09 Nov 2025) EndedAt: 2025-11-09 23:29:47 -0500 (Sun, 09 Nov 2025) EllapsedTime: 73.1 seconds RetCode: 0 Status: OK CheckDir: EMDomics.Rcheck Warnings: 0