Package: ELViS Version: 1.1.12 Command: /home/biocbuild/R/R/bin/R CMD INSTALL ELViS StartedAt: 2025-10-23 21:03:36 -0000 (Thu, 23 Oct 2025) EndedAt: 2025-10-23 21:04:31 -0000 (Thu, 23 Oct 2025) EllapsedTime: 55.3 seconds RetCode: 0 Status: OK