Package: ELViS Version: 1.1.12 Command: /home/biocbuild/R/R/bin/R CMD build --keep-empty-dirs --no-resave-data ELViS StartedAt: 2025-10-20 23:34:11 -0000 (Mon, 20 Oct 2025) EndedAt: 2025-10-20 23:37:03 -0000 (Mon, 20 Oct 2025) EllapsedTime: 172.1 seconds RetCode: 0 Status: OK PackageFile: ELViS_1.1.12.tar.gz PackageFileSize: 2.126 MiB