Package: ELViS Version: 1.1.9 Command: chmod a+r ELViS -R && F:\biocbuild\bbs-3.22-bioc\R\bin\R.exe CMD build --keep-empty-dirs --no-resave-data ELViS StartedAt: 2025-08-14 19:54:11 -0400 (Thu, 14 Aug 2025) EndedAt: 2025-08-14 19:56:53 -0400 (Thu, 14 Aug 2025) EllapsedTime: 162.0 seconds RetCode: 0 Status: OK PackageFile: ELViS_1.1.9.tar.gz PackageFileSize: 2.016 MiB