Package: ELViS Version: 1.0.0 Command: /home/biocbuild/bbs-3.21-bioc/R/bin/R CMD INSTALL ELViS StartedAt: 2025-10-15 15:39:07 -0400 (Wed, 15 Oct 2025) EndedAt: 2025-10-15 15:39:50 -0400 (Wed, 15 Oct 2025) EllapsedTime: 43.1 seconds RetCode: 0 Status: OK