Package: ELViS Version: 1.0.0 Command: /home/biocbuild/bbs-3.21-bioc/R/bin/R CMD build --keep-empty-dirs --no-resave-data ELViS StartedAt: 2025-10-15 17:20:56 -0400 (Wed, 15 Oct 2025) EndedAt: 2025-10-15 17:22:53 -0400 (Wed, 15 Oct 2025) EllapsedTime: 117.1 seconds RetCode: 0 Status: OK PackageFile: ELViS_1.0.0.tar.gz PackageFileSize: 2.389 MiB