Package: ELViS Version: 1.0.0 Command: /Library/Frameworks/R.framework/Resources/bin/R CMD check --install=check:ELViS.install-out.txt --library=/Library/Frameworks/R.framework/Resources/library --no-vignettes --timings ELViS_1.0.0.tar.gz StartedAt: 2025-10-14 03:19:17 -0400 (Tue, 14 Oct 2025) EndedAt: 2025-10-14 03:36:48 -0400 (Tue, 14 Oct 2025) EllapsedTime: 1051.3 seconds RetCode: 0 Status: OK CheckDir: ELViS.Rcheck Warnings: 0