Package: ELViS Version: 1.0.0 Command: /Library/Frameworks/R.framework/Resources/bin/R CMD build --keep-empty-dirs --no-resave-data ELViS StartedAt: 2025-10-13 18:49:05 -0400 (Mon, 13 Oct 2025) EndedAt: 2025-10-13 18:53:57 -0400 (Mon, 13 Oct 2025) EllapsedTime: 292.0 seconds RetCode: 0 Status: OK PackageFile: ELViS_1.0.0.tar.gz PackageFileSize: 2.391 MiB