Package: EGSEA Version: 1.38.0 Command: /home/biocbuild/R/R/bin/R CMD INSTALL EGSEA StartedAt: 2025-11-13 22:06:37 -0000 (Thu, 13 Nov 2025) EndedAt: 2025-11-13 22:07:49 -0000 (Thu, 13 Nov 2025) EllapsedTime: 72.7 seconds RetCode: 0 Status: OK