Package: EGSEA Version: 1.38.0 Command: /Library/Frameworks/R.framework/Resources/bin/R CMD check --install=check:EGSEA.install-out.txt --library=/Library/Frameworks/R.framework/Resources/library --no-vignettes --timings EGSEA_1.38.0.tar.gz StartedAt: 2025-11-06 19:37:20 -0500 (Thu, 06 Nov 2025) EndedAt: 2025-11-06 19:40:44 -0500 (Thu, 06 Nov 2025) EllapsedTime: 203.4 seconds RetCode: 0 Status: OK CheckDir: EGSEA.Rcheck Warnings: 0