Package: EGAD Version: 1.36.0 Command: /home/biocbuild/bbs-3.21-bioc/R/bin/R CMD build --keep-empty-dirs --no-resave-data EGAD StartedAt: 2025-10-15 17:20:32 -0400 (Wed, 15 Oct 2025) EndedAt: 2025-10-15 17:20:35 -0400 (Wed, 15 Oct 2025) EllapsedTime: 3.0 seconds RetCode: 0 Status: OK PackageFile: EGAD_1.36.0.tar.gz PackageFileSize: 14.57 MiB