Package: EGAD Version: 1.36.0 Command: /home/biocbuild/R/R/bin/R CMD build --keep-empty-dirs --no-resave-data EGAD StartedAt: 2025-10-14 00:33:04 -0000 (Tue, 14 Oct 2025) EndedAt: 2025-10-14 00:33:07 -0000 (Tue, 14 Oct 2025) EllapsedTime: 3.0 seconds RetCode: 0 Status: OK PackageFile: EGAD_1.36.0.tar.gz PackageFileSize: 14.57 MiB