Package: EDIRquery Version: 1.8.0 Command: /home/biocbuild/bbs-3.21-bioc/R/bin/R CMD build --keep-empty-dirs --no-resave-data EDIRquery StartedAt: 2025-10-15 17:20:22 -0400 (Wed, 15 Oct 2025) EndedAt: 2025-10-15 17:21:00 -0400 (Wed, 15 Oct 2025) EllapsedTime: 38.1 seconds RetCode: 0 Status: OK PackageFile: EDIRquery_1.8.0.tar.gz PackageFileSize: 1.376 MiB