Package: EDIRquery Version: 1.8.0 Command: rm -rf EDIRquery.buildbin-libdir && mkdir EDIRquery.buildbin-libdir && /Users/biocbuild/BBS/utils/build-universal.sh EDIRquery_1.8.0.tar.gz /Library/Frameworks/R.framework/Resources/bin/R EDIRquery.buildbin-libdir StartedAt: 2025-10-14 13:21:19 -0400 (Tue, 14 Oct 2025) EndedAt: 2025-10-14 13:22:34 -0400 (Tue, 14 Oct 2025) EllapsedTime: 74.4 seconds RetCode: 0 Status: OK PackageFile: EDIRquery_1.8.0.tgz PackageFileSize: 1.624 MiB