Package: EDIRquery Version: 1.8.0 Command: /Library/Frameworks/R.framework/Resources/bin/R CMD INSTALL EDIRquery StartedAt: 2025-10-13 16:38:46 -0400 (Mon, 13 Oct 2025) EndedAt: 2025-10-13 16:39:15 -0400 (Mon, 13 Oct 2025) EllapsedTime: 29.2 seconds RetCode: 0 Status: OK