Package: EDIRquery Version: 1.8.0 Command: /Library/Frameworks/R.framework/Resources/bin/R CMD build --keep-empty-dirs --no-resave-data EDIRquery StartedAt: 2025-10-13 23:46:25 -0400 (Mon, 13 Oct 2025) EndedAt: 2025-10-13 23:47:14 -0400 (Mon, 13 Oct 2025) EllapsedTime: 49.2 seconds RetCode: 0 Status: OK PackageFile: EDIRquery_1.8.0.tar.gz PackageFileSize: 1.376 MiB