Package: EDASeq Version: 2.42.0 Command: /home/biocbuild/bbs-3.21-bioc/R/bin/R CMD build --keep-empty-dirs --no-resave-data EDASeq StartedAt: 2025-10-01 17:23:10 -0400 (Wed, 01 Oct 2025) EndedAt: 2025-10-01 17:24:24 -0400 (Wed, 01 Oct 2025) EllapsedTime: 74.1 seconds RetCode: 0 Status: OK PackageFile: EDASeq_2.42.0.tar.gz PackageFileSize: 1.135 MiB