Package: EBSeq Version: 2.6.0 Command: rm -rf EBSeq.buildbin-libdir && mkdir EBSeq.buildbin-libdir && E:\biocbuild\bbs-3.21-bioc\R\bin\R.exe CMD INSTALL --build --library=EBSeq.buildbin-libdir EBSeq_2.6.0.tar.gz StartedAt: 2025-08-15 09:13:13 -0400 (Fri, 15 Aug 2025) EndedAt: 2025-08-15 09:14:06 -0400 (Fri, 15 Aug 2025) EllapsedTime: 52.8 seconds RetCode: 0 Status: OK PackageFile: EBSeq_2.6.0.zip PackageFileSize: 1.507 MiB