Package: DuplexDiscovereR Version: 1.2.0 Command: E:\biocbuild\bbs-3.21-bioc\R\bin\R.exe CMD check --no-multiarch --install=check:DuplexDiscovereR.install-out.txt --library=E:\biocbuild\bbs-3.21-bioc\R\library --no-vignettes --timings DuplexDiscovereR_1.2.0.tar.gz StartedAt: 2025-08-15 01:44:24 -0400 (Fri, 15 Aug 2025) EndedAt: 2025-08-15 01:53:40 -0400 (Fri, 15 Aug 2025) EllapsedTime: 555.8 seconds RetCode: 0 Status: OK CheckDir: DuplexDiscovereR.Rcheck Warnings: 0