Package: DspikeIn Version: 1.0.0 Command: /Library/Frameworks/R.framework/Resources/bin/R CMD INSTALL DspikeIn StartedAt: 2025-11-06 15:18:47 -0500 (Thu, 06 Nov 2025) EndedAt: 2025-11-06 15:19:09 -0500 (Thu, 06 Nov 2025) EllapsedTime: 22.9 seconds RetCode: 0 Status: OK