Package: DspikeIn Version: 1.0.0 Command: /Library/Frameworks/R.framework/Resources/bin/R CMD check --install=check:DspikeIn.install-out.txt --library=/Library/Frameworks/R.framework/Resources/library --no-vignettes --timings DspikeIn_1.0.0.tar.gz StartedAt: 2025-11-06 19:34:25 -0500 (Thu, 06 Nov 2025) EndedAt: 2025-11-06 19:37:53 -0500 (Thu, 06 Nov 2025) EllapsedTime: 207.5 seconds RetCode: 0 Status: OK CheckDir: DspikeIn.Rcheck Warnings: 0