Package: DspikeIn Version: 1.0.0 Command: /Library/Frameworks/R.framework/Resources/bin/R CMD build --keep-empty-dirs --no-resave-data DspikeIn StartedAt: 2025-11-06 16:16:34 -0500 (Thu, 06 Nov 2025) EndedAt: 2025-11-06 16:18:31 -0500 (Thu, 06 Nov 2025) EllapsedTime: 117.3 seconds RetCode: 0 Status: OK PackageFile: DspikeIn_1.0.0.tar.gz PackageFileSize: 4.391 MiB