Package: DspikeIn Version: 1.0.0 Maintainer: Mitra Ghotbi MaintainerEmail: mitra.ghotbi at gmail.com git_url: https://git.bioconductor.org/packages/DspikeIn git_branch: RELEASE_3_22 git_last_commit: 8a427ff git_last_commit_date: 2025-10-29 11:39:12 -0500 (Wed, 29 Oct 2025)