Package: DrugVsDisease Version: 2.50.0 Command: rm -rf DrugVsDisease.buildbin-libdir && mkdir DrugVsDisease.buildbin-libdir && E:\biocbuild\bbs-3.21-bioc\R\bin\R.exe CMD INSTALL --build --library=DrugVsDisease.buildbin-libdir DrugVsDisease_2.50.0.tar.gz StartedAt: 2025-08-15 09:12:43 -0400 (Fri, 15 Aug 2025) EndedAt: 2025-08-15 09:13:56 -0400 (Fri, 15 Aug 2025) EllapsedTime: 72.9 seconds RetCode: 0 Status: OK PackageFile: DrugVsDisease_2.50.0.zip PackageFileSize: 2.609 MiB