Package: Doscheda Version: 1.31.0 Command: /home/biocbuild/R/R/bin/R CMD INSTALL Doscheda StartedAt: 2025-10-23 20:32:11 -0000 (Thu, 23 Oct 2025) EndedAt: 2025-10-23 20:32:35 -0000 (Thu, 23 Oct 2025) EllapsedTime: 24.3 seconds RetCode: 0 Status: OK