Package: Doscheda Version: 1.31.0 Command: /home/biocbuild/R/R/bin/R CMD check --install=check:Doscheda.install-out.txt --library=/home/biocbuild/R/R/site-library --no-vignettes --timings Doscheda_1.31.0.tar.gz StartedAt: 2025-10-21 07:38:30 -0000 (Tue, 21 Oct 2025) EndedAt: 2025-10-21 07:38:35 -0000 (Tue, 21 Oct 2025) EllapsedTime: 5.0 seconds RetCode: 1 Status: ERROR CheckDir: Doscheda.Rcheck Warnings: NA