Package: DominoEffect Version: 1.29.0 Command: rm -rf DominoEffect.buildbin-libdir && mkdir DominoEffect.buildbin-libdir && F:\biocbuild\bbs-3.22-bioc\R\bin\R.exe CMD INSTALL --build --library=DominoEffect.buildbin-libdir DominoEffect_1.29.0.tar.gz StartedAt: 2025-05-08 08:28:25 -0400 (Thu, 08 May 2025) EndedAt: 2025-05-08 08:29:21 -0400 (Thu, 08 May 2025) EllapsedTime: 56.3 seconds RetCode: 0 Status: OK PackageFile: DominoEffect_1.29.0.zip PackageFileSize: 553.2 KiB