Package: DiscoRhythm Version: 1.26.0 Command: /home/biocbuild/bbs-3.22-bioc/R/bin/R CMD check --install=check:DiscoRhythm.install-out.txt --library=/home/biocbuild/bbs-3.22-bioc/R/site-library --timings DiscoRhythm_1.26.0.tar.gz StartedAt: 2025-10-31 23:12:23 -0400 (Fri, 31 Oct 2025) EndedAt: 2025-10-31 23:16:34 -0400 (Fri, 31 Oct 2025) EllapsedTime: 250.2 seconds RetCode: 0 Status: OK CheckDir: DiscoRhythm.Rcheck Warnings: 0