Package: Dino Version: 1.14.0 Command: rm -rf Dino.buildbin-libdir && mkdir Dino.buildbin-libdir && /Users/biocbuild/BBS/utils/build-universal.sh Dino_1.14.0.tar.gz /Library/Frameworks/R.framework/Resources/bin/R Dino.buildbin-libdir StartedAt: 2025-10-15 18:15:29 -0400 (Wed, 15 Oct 2025) EndedAt: 2025-10-15 18:16:22 -0400 (Wed, 15 Oct 2025) EllapsedTime: 52.6 seconds RetCode: 0 Status: OK PackageFile: Dino_1.14.0.tgz PackageFileSize: 1.562 MiB