Package: DepecheR Version: 1.25.0 Command: /home/biocbuild/R/R/bin/R CMD check --install=check:DepecheR.install-out.txt --library=/home/biocbuild/R/R/site-library --no-vignettes --timings DepecheR_1.25.0.tar.gz StartedAt: 2025-10-21 07:23:03 -0000 (Tue, 21 Oct 2025) EndedAt: 2025-10-21 07:25:42 -0000 (Tue, 21 Oct 2025) EllapsedTime: 159.2 seconds RetCode: 1 Status: ERROR CheckDir: DepecheR.Rcheck Warnings: NA