Package: DepecheR Version: 1.26.0 Command: /home/biocbuild/bbs-3.22-bioc/R/bin/R CMD INSTALL DepecheR StartedAt: 2025-11-06 15:10:00 -0500 (Thu, 06 Nov 2025) EndedAt: 2025-11-06 15:10:36 -0500 (Thu, 06 Nov 2025) EllapsedTime: 35.1 seconds RetCode: 0 Status: OK