Package: DepecheR Version: 1.26.0 Command: /home/biocbuild/bbs-3.22-bioc/R/bin/R CMD check --install=check:DepecheR.install-out.txt --library=/home/biocbuild/bbs-3.22-bioc/R/site-library --timings DepecheR_1.26.0.tar.gz StartedAt: 2025-11-06 22:53:11 -0500 (Thu, 06 Nov 2025) EndedAt: 2025-11-06 22:56:05 -0500 (Thu, 06 Nov 2025) EllapsedTime: 174.2 seconds RetCode: 0 Status: OK CheckDir: DepecheR.Rcheck Warnings: 0