Package: DepecheR Version: 1.26.0 Command: /Library/Frameworks/R.framework/Resources/bin/R CMD INSTALL DepecheR StartedAt: 2025-11-09 15:05:58 -0500 (Sun, 09 Nov 2025) EndedAt: 2025-11-09 15:06:10 -0500 (Sun, 09 Nov 2025) EllapsedTime: 12.4 seconds RetCode: 0 Status: OK