Package: DepecheR Version: 1.26.0 Command: /Library/Frameworks/R.framework/Resources/bin/R CMD build --keep-empty-dirs --no-resave-data DepecheR StartedAt: 2025-11-09 16:11:15 -0500 (Sun, 09 Nov 2025) EndedAt: 2025-11-09 16:11:35 -0500 (Sun, 09 Nov 2025) EllapsedTime: 20.2 seconds RetCode: 0 Status: OK PackageFile: DepecheR_1.26.0.tar.gz PackageFileSize: 2.561 MiB