Package: DelayedRandomArray Version: 1.18.0 Command: /home/biocbuild/R/R/bin/R CMD build --keep-empty-dirs --no-resave-data DelayedRandomArray StartedAt: 2025-11-21 01:47:12 -0000 (Fri, 21 Nov 2025) EndedAt: 2025-11-21 01:48:10 -0000 (Fri, 21 Nov 2025) EllapsedTime: 58.0 seconds RetCode: 0 Status: OK PackageFile: DelayedRandomArray_1.18.0.tar.gz PackageFileSize: 385.6 KiB