Package: DelayedDataFrame Version: 1.26.0 Command: /home/biocbuild/R/R/bin/R CMD INSTALL DelayedDataFrame StartedAt: 2025-11-17 21:30:26 -0000 (Mon, 17 Nov 2025) EndedAt: 2025-11-17 21:30:50 -0000 (Mon, 17 Nov 2025) EllapsedTime: 24.5 seconds RetCode: 0 Status: OK