Package: DelayedDataFrame Version: 1.26.0 Command: /home/biocbuild/bbs-3.22-bioc/R/bin/R CMD check --install=check:DelayedDataFrame.install-out.txt --library=/home/biocbuild/bbs-3.22-bioc/R/site-library --timings DelayedDataFrame_1.26.0.tar.gz StartedAt: 2025-11-18 02:56:00 -0500 (Tue, 18 Nov 2025) EndedAt: 2025-11-18 03:00:25 -0500 (Tue, 18 Nov 2025) EllapsedTime: 265.2 seconds RetCode: 0 Status: OK CheckDir: DelayedDataFrame.Rcheck Warnings: 0