Package: DelayedDataFrame Version: 1.26.0 Command: /home/biocbuild/bbs-3.22-bioc/R/bin/R CMD build --keep-empty-dirs --no-resave-data --md5 DelayedDataFrame StartedAt: 2025-11-17 20:35:51 -0500 (Mon, 17 Nov 2025) EndedAt: 2025-11-17 20:36:19 -0500 (Mon, 17 Nov 2025) EllapsedTime: 28.0 seconds RetCode: 0 Status: OK PackageFile: DelayedDataFrame_1.26.0.tar.gz PackageFileSize: 487.5 KiB