Package: DeepTarget Version: 1.4.0 Command: /home/biocbuild/bbs-3.22-bioc/R/bin/R CMD INSTALL DeepTarget StartedAt: 2025-11-06 15:31:53 -0500 (Thu, 06 Nov 2025) EndedAt: 2025-11-06 15:32:15 -0500 (Thu, 06 Nov 2025) EllapsedTime: 22.0 seconds RetCode: 0 Status: OK