Package: DeepPINCS Version: 1.18.0 Command: /home/biocbuild/bbs-3.22-bioc/R/bin/R CMD INSTALL DeepPINCS StartedAt: 2025-11-09 15:11:22 -0500 (Sun, 09 Nov 2025) EndedAt: 2025-11-09 15:11:38 -0500 (Sun, 09 Nov 2025) EllapsedTime: 15.1 seconds RetCode: 0 Status: OK