Package: DeepPINCS Version: 1.18.0 Command: /home/biocbuild/bbs-3.22-bioc/R/bin/R CMD check --install=check:DeepPINCS.install-out.txt --library=/home/biocbuild/bbs-3.22-bioc/R/site-library --timings DeepPINCS_1.18.0.tar.gz StartedAt: 2025-11-09 22:57:25 -0500 (Sun, 09 Nov 2025) EndedAt: 2025-11-09 22:58:50 -0500 (Sun, 09 Nov 2025) EllapsedTime: 85.1 seconds RetCode: 0 Status: OK CheckDir: DeepPINCS.Rcheck Warnings: 0