Package: DeepPINCS Version: 1.18.0 Command: /home/biocbuild/bbs-3.22-bioc/R/bin/R CMD build --keep-empty-dirs --no-resave-data --md5 DeepPINCS StartedAt: 2025-11-09 17:17:59 -0500 (Sun, 09 Nov 2025) EndedAt: 2025-11-09 17:18:19 -0500 (Sun, 09 Nov 2025) EllapsedTime: 20.0 seconds RetCode: 0 Status: OK PackageFile: DeepPINCS_1.18.0.tar.gz PackageFileSize: 2.44 MiB